BEGIN:VCALENDAR
PRODID:-//http://statistik.d-u-v.org//PHP ultracalendar//EN
VERSION:2.0
METHOD:PUBLISH
BEGIN:VEVENT
DTSTAMP:20260423T020253
CREATED:20240616T121241
UID:1776909773.0.64272500-108282@statistik.d-u-v.org
SUMMARY:Gold Coast 50 Road Race
DESCRIPTION: Gold Coast 50 Road Race\n
  Adam Goodger\n
  adam[at]sport3.com.au; info[at]goldcoast50.com
DTSTART:20241124T050000
DTEND:00000000T235900
LOCATION:Coolangatta, QLD\, AUS
URL:https://www.gc50runfestival.com.au/
CATEGORIES:Ultramarathon
CONTACT:Adam Goodger
CLASS:PUBLIC
PRIORITY:5
TRANSP:OPAQUE
END:VEVENT
END:VCALENDAR
