BEGIN:VCALENDAR
PRODID:-//http://statistik.d-u-v.org//PHP ultracalendar//EN
VERSION:2.0
METHOD:PUBLISH
BEGIN:VEVENT
DTSTAMP:20260423T012433
CREATED:20240610T173911
UID:1776907473.0.75482100-108247@statistik.d-u-v.org
SUMMARY:Dolomiti Extreme Trail 72 km
DESCRIPTION: Dolomiti Extreme Trail 72 km\n
  Corrado De Rocco\n
  info[at]dolomitiextremetrail.com; corrado.zoldo[at]gmail.com
DTSTART:20240608T000000
DTEND:00000000T235900
LOCATION:Val di Zoldo\, ITA
URL:http://www.dolomitiextremetrail.com
CATEGORIES:Ultramarathon
CONTACT:Corrado De Rocco
CLASS:PUBLIC
PRIORITY:5
TRANSP:OPAQUE
END:VEVENT
END:VCALENDAR
