BEGIN:VCALENDAR
PRODID:-//http://statistik.d-u-v.org//PHP ultracalendar//EN
VERSION:2.0
METHOD:PUBLISH
BEGIN:VEVENT
DTSTAMP:20260419T140126
CREATED:20240609T204410
UID:1776607286.0.27937300-108242@statistik.d-u-v.org
SUMMARY:Bad Nenndorf - Porta Westfalica Wanderweg X11
DESCRIPTION: Bad Nenndorf - Porta Westfalica Wanderweg X11\n
  Frank Albrecht\n
  frankalbrecht113[at]gmail.com
DTSTART:20240713T074500
DTEND:00000000T235900
LOCATION:Bad Nenndorf\, GER
URL:https://my.raceresult.com/294697/
CATEGORIES:Ultramarathon
CONTACT:Frank Albrecht
CLASS:PUBLIC
PRIORITY:5
TRANSP:OPAQUE
END:VEVENT
END:VCALENDAR
