BEGIN:VCALENDAR
PRODID:-//http://statistik.d-u-v.org//PHP ultracalendar//EN
VERSION:2.0
METHOD:PUBLISH
BEGIN:VEVENT
DTSTAMP:20260419T164847
CREATED:20240609T121749
UID:1776617327.0.18184700-108228@statistik.d-u-v.org
SUMMARY:Jack Bristol Lake Waramaug 50mi Ultra Marathon
DESCRIPTION: Jack Bristol Lake Waramaug 50mi Ultra Marathon\n
  Carl Hunt, Race Director\n
  huntcarl[at]sbcglobal.net
DTSTART:20240428T063000
DTEND:00000000T235900
LOCATION:New Preston, CT\, USA
URL:http://lakewaramaugultra.com/
CATEGORIES:Ultramarathon
CONTACT:Carl Hunt, Race Director
CLASS:PUBLIC
PRIORITY:5
TRANSP:OPAQUE
END:VEVENT
END:VCALENDAR
