BEGIN:VCALENDAR
PRODID:-//http://statistik.d-u-v.org//PHP ultracalendar//EN
VERSION:2.0
METHOD:PUBLISH
BEGIN:VEVENT
DTSTAMP:20260419T233221
CREATED:20240609T020116
UID:1776641541.0.94666300-108201@statistik.d-u-v.org
SUMMARY:Columbia Bicentennial 48h - 200mi Split
DESCRIPTION: Columbia Bicentennial 48h - 200mi Split\n
  Ray Krolewicz\n
  
DTSTART:19861229T120000
DTEND:19861231T120000
LOCATION:Columbia, SC\, USA
URL:
CATEGORIES:Ultramarathon
CONTACT:Ray Krolewicz
CLASS:PUBLIC
PRIORITY:5
TRANSP:OPAQUE
END:VEVENT
END:VCALENDAR
