BEGIN:VCALENDAR
PRODID:-//http://statistik.d-u-v.org//PHP ultracalendar//EN
VERSION:2.0
METHOD:PUBLISH
BEGIN:VEVENT
DTSTAMP:20260423T080746
CREATED:20240608T061827
UID:1776931666.0.54801600-108151@statistik.d-u-v.org
SUMMARY:Horseshoe Lake 50 km Trail Run
DESCRIPTION: Horseshoe Lake 50 km Trail Run\n
  \n
  
DTSTART:20230423T080000
DTEND:00000000T235900
LOCATION:Palo Alto, CA\, USA
URL:http://www.coastaltrailruns.com/hl_horseshoe_lake.html
CATEGORIES:Ultramarathon
CONTACT:
CLASS:PUBLIC
PRIORITY:5
TRANSP:OPAQUE
END:VEVENT
END:VCALENDAR
