BEGIN:VCALENDAR
PRODID:-//http://statistik.d-u-v.org//PHP ultracalendar//EN
VERSION:2.0
METHOD:PUBLISH
BEGIN:VEVENT
DTSTAMP:20260423T020636
CREATED:20240605T172322
UID:1776909996.0.64513600-108139@statistik.d-u-v.org
SUMMARY:Epona 100
DESCRIPTION: Epona 100\n
  \n
  info[at]epona100.com
DTSTART:20240622T060000
DTEND:20240624T080000
LOCATION:Abergavenny\, GBR
URL:https://www.epona100.com/
CATEGORIES:Ultramarathon
CONTACT:
CLASS:PUBLIC
PRIORITY:5
TRANSP:OPAQUE
END:VEVENT
END:VCALENDAR
