BEGIN:VCALENDAR
PRODID:-//http://statistik.d-u-v.org//PHP ultracalendar//EN
VERSION:2.0
METHOD:PUBLISH
BEGIN:VEVENT
DTSTAMP:20260423T163503
CREATED:20240605T022948
UID:1776962103.0.18494900-108100@statistik.d-u-v.org
SUMMARY:Royal Gorge Groove
DESCRIPTION: Royal Gorge Groove\n
  \n
  info[at]aravaiparunning.com
DTSTART:20230422T060000
DTEND:00000000T235900
LOCATION:Canon City, CO\, USA
URL:https://www.aravaiparunning.com/royal-gorge-groove/
CATEGORIES:Ultramarathon
CONTACT:
CLASS:PUBLIC
PRIORITY:5
TRANSP:OPAQUE
END:VEVENT
END:VCALENDAR
