BEGIN:VCALENDAR
PRODID:-//http://statistik.d-u-v.org//PHP ultracalendar//EN
VERSION:2.0
METHOD:PUBLISH
BEGIN:VEVENT
DTSTAMP:20260423T065143
CREATED:20240603T184256
UID:1776927103.0.69646500-108039@statistik.d-u-v.org
SUMMARY:Silver Moon Race 6 Hour Race
DESCRIPTION: Silver Moon Race 6 Hour Race\n
  \n
  
DTSTART:20230408T180000
DTEND:00000000T235900
LOCATION:Reedley, CA\, USA
URL:https://silvermoonrace.com/
CATEGORIES:Ultramarathon
CONTACT:
CLASS:PUBLIC
PRIORITY:5
TRANSP:OPAQUE
END:VEVENT
END:VCALENDAR
