BEGIN:VCALENDAR
PRODID:-//http://statistik.d-u-v.org//PHP ultracalendar//EN
VERSION:2.0
METHOD:PUBLISH
BEGIN:VEVENT
DTSTAMP:20260423T093820
CREATED:20240603T184024
UID:1776937100.0.62503800-108037@statistik.d-u-v.org
SUMMARY:Silver Moon Race 24 Hour Race
DESCRIPTION: Silver Moon Race 24 Hour Race\n
  \n
  
DTSTART:20230408T180000
DTEND:20230409T180000
LOCATION:Reedley, CA\, USA
URL:https://silvermoonrace.com/
CATEGORIES:Ultramarathon
CONTACT:
CLASS:PUBLIC
PRIORITY:5
TRANSP:OPAQUE
END:VEVENT
END:VCALENDAR
