BEGIN:VCALENDAR
PRODID:-//http://statistik.d-u-v.org//PHP ultracalendar//EN
VERSION:2.0
METHOD:PUBLISH
BEGIN:VEVENT
DTSTAMP:20260419T213459
CREATED:20240603T150022
UID:1776634499.0.58041200-108017@statistik.d-u-v.org
SUMMARY:Fondren Urban Ultra
DESCRIPTION: Fondren Urban Ultra\n
  Race Director Matt Clem\n
  mathewclem[at]gmail.com
DTSTART:20240420T070000
DTEND:00000000T235900
LOCATION:Jackson, MS\, USA
URL:https://www.mutsrunning.org/
CATEGORIES:Ultramarathon
CONTACT:Race Director Matt Clem
CLASS:PUBLIC
PRIORITY:5
TRANSP:OPAQUE
END:VEVENT
END:VCALENDAR
