BEGIN:VCALENDAR
PRODID:-//http://statistik.d-u-v.org//PHP ultracalendar//EN
VERSION:2.0
METHOD:PUBLISH
BEGIN:VEVENT
DTSTAMP:20260420T035146
CREATED:20240603T125753
UID:1776657106.0.81482100-108006@statistik.d-u-v.org
SUMMARY:Trail Mix Race
DESCRIPTION: Trail Mix Race\n
  \n
  
DTSTART:20240420T080000
DTEND:00000000T235900
LOCATION:Rockford, MN\, USA
URL:http://www.andersonraces.com/new-events/2018/4/21/allina-health-trail-mix
CATEGORIES:Ultramarathon
CONTACT:
CLASS:PUBLIC
PRIORITY:5
TRANSP:OPAQUE
END:VEVENT
END:VCALENDAR
