BEGIN:VCALENDAR
PRODID:-//http://statistik.d-u-v.org//PHP ultracalendar//EN
VERSION:2.0
METHOD:PUBLISH
BEGIN:VEVENT
DTSTAMP:20260423T004923
CREATED:20240603T081750
UID:1776905363.0.91988000-108004@statistik.d-u-v.org
SUMMARY:Earth Day Buckle Mania 24h
DESCRIPTION: Earth Day Buckle Mania 24h\n
  \n
  trailhippie[at]gmail.com
DTSTART:20240420T000000
DTEND:20240421T235900
LOCATION:Abilene, KS\, USA
URL:https://www.facebook.com/profile.php?id=100086355507614
CATEGORIES:Ultramarathon
CONTACT:
CLASS:PUBLIC
PRIORITY:5
TRANSP:OPAQUE
END:VEVENT
END:VCALENDAR
