BEGIN:VCALENDAR
PRODID:-//http://statistik.d-u-v.org//PHP ultracalendar//EN
VERSION:2.0
METHOD:PUBLISH
BEGIN:VEVENT
DTSTAMP:20260419T195332
CREATED:20240602T184341
UID:1776628412.0.77868500-107990@statistik.d-u-v.org
SUMMARY:The 6 Hour Lions Roar Trail Race
DESCRIPTION: The 6 Hour Lions Roar Trail Race\n
  001-573-999-0344\n
  the24hourlionsroar[at]gmail.com
DTSTART:20240420T120000
DTEND:00000000T235900
LOCATION:Columbia, MO\, USA
URL:http://the24hourlionsroar.com
CATEGORIES:Ultramarathon
CONTACT:001-573-999-0344
CLASS:PUBLIC
PRIORITY:5
TRANSP:OPAQUE
END:VEVENT
END:VCALENDAR
