BEGIN:VCALENDAR
PRODID:-//http://statistik.d-u-v.org//PHP ultracalendar//EN
VERSION:2.0
METHOD:PUBLISH
BEGIN:VEVENT
DTSTAMP:20260423T012418
CREATED:20240602T170859
UID:1776907458.0.16654100-107967@statistik.d-u-v.org
SUMMARY:Desert Rats Trail Running Festival 50 Km
DESCRIPTION: Desert Rats Trail Running Festival 50 Km\n
  \n
  reid_delman[at]geminiadventures.com
DTSTART:20250412T070000
DTEND:00000000T235900
LOCATION:Fruita, CO\, USA
URL:https://desertrats.utmb.world/races/50K
CATEGORIES:Ultramarathon
CONTACT:
CLASS:PUBLIC
PRIORITY:5
TRANSP:OPAQUE
END:VEVENT
END:VCALENDAR
