BEGIN:VCALENDAR
PRODID:-//http://statistik.d-u-v.org//PHP ultracalendar//EN
VERSION:2.0
METHOD:PUBLISH
BEGIN:VEVENT
DTSTAMP:20260419T192544
CREATED:20240530T163011
UID:1776626744.0.37398800-107897@statistik.d-u-v.org
SUMMARY:Chief Ladiga 100
DESCRIPTION: Chief Ladiga 100\n
  \n
  info[at]zombietrailraces.com
DTSTART:20240413T000000
DTEND:20240414T235900
LOCATION:Jacksonville, AL\, USA
URL:https://www.facebook.com/ChiefLadiga100
CATEGORIES:Ultramarathon
CONTACT:
CLASS:PUBLIC
PRIORITY:5
TRANSP:OPAQUE
END:VEVENT
END:VCALENDAR
