BEGIN:VCALENDAR
PRODID:-//http://statistik.d-u-v.org//PHP ultracalendar//EN
VERSION:2.0
METHOD:PUBLISH
BEGIN:VEVENT
DTSTAMP:20260420T022442
CREATED:20240529T181550
UID:1776651882.0.07555200-107836@statistik.d-u-v.org
SUMMARY:Umstead Endurance Run 50 Miles
DESCRIPTION: Umstead Endurance Run 50 Miles\n
  Rhonda Hampton\n
  racedirector[at]umstead100.org
DTSTART:20250405T060000
DTEND:20250406T235900
LOCATION:Raleigh, NC\, USA
URL:http://www.umstead100.org/
CATEGORIES:Ultramarathon
CONTACT:Rhonda Hampton
CLASS:PUBLIC
PRIORITY:5
TRANSP:OPAQUE
END:VEVENT
END:VCALENDAR
