BEGIN:VCALENDAR
PRODID:-//http://statistik.d-u-v.org//PHP ultracalendar//EN
VERSION:2.0
METHOD:PUBLISH
BEGIN:VEVENT
DTSTAMP:20260419T192408
CREATED:20240528T061013
UID:1776626648.0.96243400-107809@statistik.d-u-v.org
SUMMARY:Run the Ranch 6 Hour Race
DESCRIPTION: Run the Ranch 6 Hour Race\n
  \n
  run[at]sweetheartcityracing.com
DTSTART:20240406T060000
DTEND:00000000T235900
LOCATION:Loveland, CO\, USA
URL:https://www.sweetheartcityracing.com/
CATEGORIES:Ultramarathon
CONTACT:
CLASS:PUBLIC
PRIORITY:5
TRANSP:OPAQUE
END:VEVENT
END:VCALENDAR
