BEGIN:VCALENDAR
PRODID:-//http://statistik.d-u-v.org//PHP ultracalendar//EN
VERSION:2.0
METHOD:PUBLISH
BEGIN:VEVENT
DTSTAMP:20260419T161629
CREATED:20240525T113507
UID:1776615389.0.23714900-107759@statistik.d-u-v.org
SUMMARY:ENDURE 12 Hour Race
DESCRIPTION: ENDURE 12 Hour Race\n
  Race Director John Lacroix\n
  sherpajohn[at]gmail.com
DTSTART:20250517T060000
DTEND:00000000T235900
LOCATION:Divide, CO\, USA
URL:http://humanpotentialrunning.com/races/tommyknocker-ultras/
CATEGORIES:Ultramarathon
CONTACT:Race Director John Lacroix
CLASS:PUBLIC
PRIORITY:5
TRANSP:OPAQUE
END:VEVENT
END:VCALENDAR
