BEGIN:VCALENDAR
PRODID:-//http://statistik.d-u-v.org//PHP ultracalendar//EN
VERSION:2.0
METHOD:PUBLISH
BEGIN:VEVENT
DTSTAMP:20260419T185817
CREATED:20240521T220750
UID:1776625097.0.10957200-107702@statistik.d-u-v.org
SUMMARY:Desert Wolf 100km
DESCRIPTION: Desert Wolf 100km\n
  Briston Rains\n
  texasoutlawrunning[at]gmail.com
DTSTART:20240928T060000
DTEND:20240929T030000
LOCATION:Johnson City, TX\, USA
URL:https://www.texasoutlawrunning.com/wolf
CATEGORIES:Ultramarathon
CONTACT:Briston Rains
CLASS:PUBLIC
PRIORITY:5
TRANSP:OPAQUE
END:VEVENT
END:VCALENDAR
