BEGIN:VCALENDAR
PRODID:-//http://statistik.d-u-v.org//PHP ultracalendar//EN
VERSION:2.0
METHOD:PUBLISH
BEGIN:VEVENT
DTSTAMP:20260420T052247
CREATED:20240520T102702
UID:1776662567.0.82309800-107695@statistik.d-u-v.org
SUMMARY:NeckarCross-Ultrarace Trailrunning
DESCRIPTION: NeckarCross-Ultrarace Trailrunning\n
  \n
  davneckarcross[at]gmail.com
DTSTART:20250511T080000
DTEND:20250511T190000
LOCATION:Hirschhorn\, GER
URL:https://www.trailrunning-neckarcross.de/
CATEGORIES:Ultramarathon
CONTACT:
CLASS:PUBLIC
PRIORITY:5
TRANSP:OPAQUE
END:VEVENT
END:VCALENDAR
