BEGIN:VCALENDAR
PRODID:-//http://statistik.d-u-v.org//PHP ultracalendar//EN
VERSION:2.0
METHOD:PUBLISH
BEGIN:VEVENT
DTSTAMP:20260419T164841
CREATED:20240519T222742
UID:1776617321.0.33821200-107647@statistik.d-u-v.org
SUMMARY:ABM Jędraszek UltraPark Weekend 24h - 100km split
DESCRIPTION: ABM Jędraszek UltraPark Weekend 24h - 100km split\n
  Piotr Kardas\n
  biuro.ultrapark[at]gmail.com
DTSTART:20240511T070000
DTEND:00000000T235900
LOCATION:Pabianice\, POL
URL:http://ultrapark.com.pl
CATEGORIES:Ultramarathon
CONTACT:Piotr Kardas
CLASS:PUBLIC
PRIORITY:5
TRANSP:OPAQUE
END:VEVENT
END:VCALENDAR
