BEGIN:VCALENDAR
PRODID:-//http://statistik.d-u-v.org//PHP ultracalendar//EN
VERSION:2.0
METHOD:PUBLISH
BEGIN:VEVENT
DTSTAMP:20260421T234928
CREATED:20240513T172241
UID:1776815368.0.19156700-107590@statistik.d-u-v.org
SUMMARY:Cyprus Backyard Ultra
DESCRIPTION: Cyprus Backyard Ultra\n
  Nicolas Aristokleous\n
  cyprus.backyard[at]gmail.com
DTSTART:20250301T090000
DTEND:00000000T235900
LOCATION:Larnaca\, CYP
URL:https://backyardultra.com/races/cyprus-backyard-ultra/
CATEGORIES:Ultramarathon
CONTACT:Nicolas Aristokleous
CLASS:PUBLIC
PRIORITY:5
TRANSP:OPAQUE
END:VEVENT
END:VCALENDAR
