BEGIN:VCALENDAR
PRODID:-//http://statistik.d-u-v.org//PHP ultracalendar//EN
VERSION:2.0
METHOD:PUBLISH
BEGIN:VEVENT
DTSTAMP:20260423T033712
CREATED:20240513T121721
UID:1776915432.0.19203100-107586@statistik.d-u-v.org
SUMMARY:Lengericher Ultratrail
DESCRIPTION: Lengericher Ultratrail\n
  Uwe Laig\n
  uwelaig[at]web.de
DTSTART:20250511T070000
DTEND:00000000T235900
LOCATION:Lengerich\, GER
URL:https://my.raceresult.com/288919/
CATEGORIES:Ultramarathon
CONTACT:Uwe Laig
CLASS:PUBLIC
PRIORITY:5
TRANSP:OPAQUE
END:VEVENT
END:VCALENDAR
