BEGIN:VCALENDAR
PRODID:-//http://statistik.d-u-v.org//PHP ultracalendar//EN
VERSION:2.0
METHOD:PUBLISH
BEGIN:VEVENT
DTSTAMP:20260422T211812
CREATED:20240512T072331
UID:1776892692.0.26959000-107554@statistik.d-u-v.org
SUMMARY:N12 Ultra Marathon
DESCRIPTION: N12 Ultra Marathon\n
  \n
  info[at]nwn12ultra.co.za
DTSTART:20220730T060000
DTEND:00000000T235900
LOCATION:Potchefstroom\, RSA
URL:https://secure.onreg.com/onreg2/front/step1.php?id=5911
CATEGORIES:Ultramarathon
CONTACT:
CLASS:PUBLIC
PRIORITY:5
TRANSP:OPAQUE
END:VEVENT
END:VCALENDAR
