BEGIN:VCALENDAR
PRODID:-//http://statistik.d-u-v.org//PHP ultracalendar//EN
VERSION:2.0
METHOD:PUBLISH
BEGIN:VEVENT
DTSTAMP:20260423T033641
CREATED:20240506T205046
UID:1776915401.0.71380100-107415@statistik.d-u-v.org
SUMMARY:B.U.T.10x10 Burgbernheim Ultra Trail
DESCRIPTION: B.U.T.10x10 Burgbernheim Ultra Trail\n
  Peter Sauerhammer\n
  peter.sauerhammer[at]adidas.com
DTSTART:20241026T040000
DTEND:20241026T235900
LOCATION:Burgbernheim\, GER
URL:https://www.but10x10tsvburgbernheim.de/
CATEGORIES:Ultramarathon
CONTACT:Peter Sauerhammer
CLASS:PUBLIC
PRIORITY:5
TRANSP:OPAQUE
END:VEVENT
END:VCALENDAR
