BEGIN:VCALENDAR
PRODID:-//http://statistik.d-u-v.org//PHP ultracalendar//EN
VERSION:2.0
METHOD:PUBLISH
BEGIN:VEVENT
DTSTAMP:20260419T185846
CREATED:20240505T170757
UID:1776625126.0.41073700-107396@statistik.d-u-v.org
SUMMARY:ABM Jędraszek UltraPark Weekend 50km
DESCRIPTION: ABM Jędraszek UltraPark Weekend 50km\n
  Piotr Kardas\n
  biuro.ultrapark[at]gmail.com
DTSTART:20240512T090000
DTEND:20240512T160000
LOCATION:Pabianice\, POL
URL:http://ultrapark.com.pl
CATEGORIES:Ultramarathon
CONTACT:Piotr Kardas
CLASS:PUBLIC
PRIORITY:5
TRANSP:OPAQUE
END:VEVENT
END:VCALENDAR
