BEGIN:VCALENDAR
PRODID:-//http://statistik.d-u-v.org//PHP ultracalendar//EN
VERSION:2.0
METHOD:PUBLISH
BEGIN:VEVENT
DTSTAMP:20260422T202652
CREATED:20240502T151351
UID:1776889612.0.82876700-107361@statistik.d-u-v.org
SUMMARY:6h+ Bokel/Ellerdorf
DESCRIPTION: 6h+ Bokel/Ellerdorf\n
  Norbert Schroeder\n
  norbertschroeder.alg[at]swn-nett.de
DTSTART:20241109T090000
DTEND:00000000T235900
LOCATION:Bokel\, GER
URL:http://bokelultra.de
CATEGORIES:Ultramarathon
CONTACT:Norbert Schroeder
CLASS:PUBLIC
PRIORITY:5
TRANSP:OPAQUE
END:VEVENT
END:VCALENDAR
