BEGIN:VCALENDAR
PRODID:-//http://statistik.d-u-v.org//PHP ultracalendar//EN
VERSION:2.0
METHOD:PUBLISH
BEGIN:VEVENT
DTSTAMP:20260419T183227
CREATED:20240501T015327
UID:1776623547.0.80955800-107347@statistik.d-u-v.org
SUMMARY:Corrida 24 Horas Dr Torao Takada
DESCRIPTION: Corrida 24 Horas Dr Torao Takada\n
  Sandra Beatris Schossler\n
  corrertoledo[at]hotmail.com
DTSTART:20240420T100000
DTEND:20240421T100000
LOCATION:Toledo, PR\, BRA
URL:http://corrertoledo.com.br/
CATEGORIES:Ultramarathon
CONTACT:Sandra Beatris Schossler
CLASS:PUBLIC
PRIORITY:5
TRANSP:OPAQUE
END:VEVENT
END:VCALENDAR
