BEGIN:VCALENDAR
PRODID:-//http://statistik.d-u-v.org//PHP ultracalendar//EN
VERSION:2.0
METHOD:PUBLISH
BEGIN:VEVENT
DTSTAMP:20260419T164854
CREATED:20230913T204025
UID:1776617334.0.31929600-107300@statistik.d-u-v.org
SUMMARY:VXO Ultrafest - VXO24h - 100km split
DESCRIPTION: VXO Ultrafest - VXO24h - 100km split\n
  Erik Ahlrot\n
  vxo24h[at]vaxjoloparklubb.nu
DTSTART:20240427T110000
DTEND:20240428T110000
LOCATION:Växjö\, SWE
URL:https://runvxo.se/ultrafest/#info
CATEGORIES:Ultramarathon
CONTACT:Erik Ahlrot
CLASS:PUBLIC
PRIORITY:5
TRANSP:OPAQUE
END:VEVENT
END:VCALENDAR
