BEGIN:VCALENDAR
PRODID:-//http://statistik.d-u-v.org//PHP ultracalendar//EN
VERSION:2.0
METHOD:PUBLISH
BEGIN:VEVENT
DTSTAMP:20260424T160634
CREATED:20240429T085649
UID:1777046794.0.98111800-107294@statistik.d-u-v.org
SUMMARY:Hungryland 100 - 85.8mi
DESCRIPTION: Hungryland 100 - 85.8mi\n
  \n
  dtsbmb[at]gmail.com
DTSTART:20240323T000000
DTEND:20240325T235900
LOCATION:West Palm Beach, FL\, USA
URL:https://www.sandspurultra.com/
CATEGORIES:Ultramarathon
CONTACT:
CLASS:PUBLIC
PRIORITY:5
TRANSP:OPAQUE
END:VEVENT
END:VCALENDAR
