BEGIN:VCALENDAR
PRODID:-//http://statistik.d-u-v.org//PHP ultracalendar//EN
VERSION:2.0
METHOD:PUBLISH
BEGIN:VEVENT
DTSTAMP:20260419T195345
CREATED:20241014T062213
UID:1776628425.0.43479500-107222@statistik.d-u-v.org
SUMMARY:Governor Backyard Ultra
DESCRIPTION: Governor Backyard Ultra\n
  \n
  info[at]hellfireevents.com
DTSTART:20241019T100000
DTEND:00000000T235900
LOCATION:Dover\, GBR
URL:https://www.hellfireevents.com
CATEGORIES:Ultramarathon
CONTACT:
CLASS:PUBLIC
PRIORITY:5
TRANSP:OPAQUE
END:VEVENT
END:VCALENDAR
