BEGIN:VCALENDAR
PRODID:-//http://statistik.d-u-v.org//PHP ultracalendar//EN
VERSION:2.0
METHOD:PUBLISH
BEGIN:VEVENT
DTSTAMP:20260423T020443
CREATED:20240426T041641
UID:1776909883.0.53837100-107144@statistik.d-u-v.org
SUMMARY:Pulse Endurance Runs (Pickled Feet) 48 Hour
DESCRIPTION: Pulse Endurance Runs (Pickled Feet) 48 Hour\n
  \n
  pickledfeetultras[at]gmail.com
DTSTART:20240314T180000
DTEND:20240316T180000
LOCATION:Eagle, ID\, USA
URL:https://www.pulserunning.com/pulseenduranceruns
CATEGORIES:Ultramarathon
CONTACT:
CLASS:PUBLIC
PRIORITY:5
TRANSP:OPAQUE
END:VEVENT
END:VCALENDAR
