BEGIN:VCALENDAR
PRODID:-//http://statistik.d-u-v.org//PHP ultracalendar//EN
VERSION:2.0
METHOD:PUBLISH
BEGIN:VEVENT
DTSTAMP:20260423T015036
CREATED:20240426T101509
UID:1776909036.0.58399000-107143@statistik.d-u-v.org
SUMMARY:Race Tekapo 50km
DESCRIPTION: Race Tekapo 50km\n
  \n
  support[at]scenicsports.net
DTSTART:20240921T060000
DTEND:00000000T235900
LOCATION:Lake Tekapo\, NZL
URL:https://racetekapo.com/
CATEGORIES:Ultramarathon
CONTACT:
CLASS:PUBLIC
PRIORITY:5
TRANSP:OPAQUE
END:VEVENT
END:VCALENDAR
