BEGIN:VCALENDAR
PRODID:-//http://statistik.d-u-v.org//PHP ultracalendar//EN
VERSION:2.0
METHOD:PUBLISH
BEGIN:VEVENT
DTSTAMP:20260420T054732
CREATED:20240426T034250
UID:1776664052.0.24204000-107137@statistik.d-u-v.org
SUMMARY:The Drift 100 Mile Race
DESCRIPTION: The Drift 100 Mile Race\n
  \n
  
DTSTART:20240310T000000
DTEND:20240312T235900
LOCATION:Pinedale, WY\, USA
URL:http://www.thedrift100.com/
CATEGORIES:Ultramarathon
CONTACT:
CLASS:PUBLIC
PRIORITY:5
TRANSP:OPAQUE
END:VEVENT
END:VCALENDAR
