BEGIN:VCALENDAR
PRODID:-//http://statistik.d-u-v.org//PHP ultracalendar//EN
VERSION:2.0
METHOD:PUBLISH
BEGIN:VEVENT
DTSTAMP:20260419T195331
CREATED:20240426T031948
UID:1776628411.0.94854000-107135@statistik.d-u-v.org
SUMMARY:Six Hour Snake Run
DESCRIPTION: Six Hour Snake Run\n
  \n
  info[at]snake.run
DTSTART:20240310T000000
DTEND:00000000T235900
LOCATION:Tulsa, OK\, USA
URL:https://www.snake.run/
CATEGORIES:Ultramarathon
CONTACT:
CLASS:PUBLIC
PRIORITY:5
TRANSP:OPAQUE
END:VEVENT
END:VCALENDAR
