BEGIN:VCALENDAR
PRODID:-//http://statistik.d-u-v.org//PHP ultracalendar//EN
VERSION:2.0
METHOD:PUBLISH
BEGIN:VEVENT
DTSTAMP:20260419T202935
CREATED:20240425T174056
UID:1776630575.0.07930900-107122@statistik.d-u-v.org
SUMMARY:Impérial Trail Fontainebleau - Le Marath'bleau
DESCRIPTION: Impérial Trail Fontainebleau - Le Marath'bleau\n
  \n
  
DTSTART:20240914T090000
DTEND:00000000T235900
LOCATION:Fontainebleau\, FRA
URL:https://imperial-trail.fr/
CATEGORIES:Ultramarathon
CONTACT:
CLASS:PUBLIC
PRIORITY:5
TRANSP:OPAQUE
END:VEVENT
END:VCALENDAR
