BEGIN:VCALENDAR
PRODID:-//http://statistik.d-u-v.org//PHP ultracalendar//EN
VERSION:2.0
METHOD:PUBLISH
BEGIN:VEVENT
DTSTAMP:20260423T035913
CREATED:20240425T021043
UID:1776916753.0.08307500-107071@statistik.d-u-v.org
SUMMARY:Antelope Canyon 70 km Race
DESCRIPTION: Antelope Canyon 70 km Race\n
  Race Director Lyle Anderson\n
  info[at]vacationraces.com
DTSTART:20250308T000000
DTEND:20250310T235900
LOCATION:Page, AZ\, USA
URL:https://vacationraces.com/ultras/antelope-canyon/
CATEGORIES:Ultramarathon
CONTACT:Race Director Lyle Anderson
CLASS:PUBLIC
PRIORITY:5
TRANSP:OPAQUE
END:VEVENT
END:VCALENDAR
