BEGIN:VCALENDAR
PRODID:-//http://statistik.d-u-v.org//PHP ultracalendar//EN
VERSION:2.0
METHOD:PUBLISH
BEGIN:VEVENT
DTSTAMP:20260419T192554
CREATED:20240424T023729
UID:1776626754.0.02696800-107005@statistik.d-u-v.org
SUMMARY:Sierra Vista Trail Runs 50 km Race
DESCRIPTION: Sierra Vista Trail Runs 50 km Race\n
  Race Director: Eugene Smith and Dan Carter\n
  sierravistatrailrun[at]gmail.com
DTSTART:20240302T070000
DTEND:00000000T235900
LOCATION:Las Cruces, NM\, USA
URL:https://sierravistatrailrun.wordpress.com/
CATEGORIES:Ultramarathon
CONTACT:Race Director: Eugene Smith and Dan Carter
CLASS:PUBLIC
PRIORITY:5
TRANSP:OPAQUE
END:VEVENT
END:VCALENDAR
