BEGIN:VCALENDAR
PRODID:-//http://statistik.d-u-v.org//PHP ultracalendar//EN
VERSION:2.0
METHOD:PUBLISH
BEGIN:VEVENT
DTSTAMP:20260423T043642
CREATED:20240424T022926
UID:1776919002.0.41346000-107001@statistik.d-u-v.org
SUMMARY:Long Play Trail Race
DESCRIPTION: Long Play Trail Race\n
  \n
  jim[at]tamparaces.com
DTSTART:20250301T000000
DTEND:00000000T235900
LOCATION:Brooksville, FL\, USA
URL:http://longplayrace.com/index.html
CATEGORIES:Ultramarathon
CONTACT:
CLASS:PUBLIC
PRIORITY:5
TRANSP:OPAQUE
END:VEVENT
END:VCALENDAR
