BEGIN:VCALENDAR
PRODID:-//http://statistik.d-u-v.org//PHP ultracalendar//EN
VERSION:2.0
METHOD:PUBLISH
BEGIN:VEVENT
DTSTAMP:20260422T234928
CREATED:20240421T191902
UID:1776901768.0.45860100-106897@statistik.d-u-v.org
SUMMARY:Paraty by UTMB - UTSB 110
DESCRIPTION: Paraty by UTMB - UTSB 110\n
  \n
  paraty[at]service.utmb.world
DTSTART:20240920T190000
DTEND:20240922T010000
LOCATION:Paraty\, BRA
URL:https://paraty.utmb.world/races/utsb
CATEGORIES:Ultramarathon
CONTACT:
CLASS:PUBLIC
PRIORITY:5
TRANSP:OPAQUE
END:VEVENT
END:VCALENDAR
