BEGIN:VCALENDAR
PRODID:-//http://statistik.d-u-v.org//PHP ultracalendar//EN
VERSION:2.0
METHOD:PUBLISH
BEGIN:VEVENT
DTSTAMP:20260423T033657
CREATED:20240417T143428
UID:1776915417.0.58584700-106730@statistik.d-u-v.org
SUMMARY:Maverick X Series North Downs
DESCRIPTION: Maverick X Series North Downs\n
  \n
  info[at]maverick-race.com
DTSTART:20240518T090000
DTEND:00000000T235900
LOCATION:Cranleigh\, GBR
URL:https://www.maverick-race.com/races/
CATEGORIES:Ultramarathon
CONTACT:
CLASS:PUBLIC
PRIORITY:5
TRANSP:OPAQUE
END:VEVENT
END:VCALENDAR
