BEGIN:VCALENDAR
PRODID:-//http://statistik.d-u-v.org//PHP ultracalendar//EN
VERSION:2.0
METHOD:PUBLISH
BEGIN:VEVENT
DTSTAMP:20260420T044132
CREATED:20240416T141000
UID:1776660092.0.24625400-106693@statistik.d-u-v.org
SUMMARY:Dirty Feet Heartbreak 100km Trail Run
DESCRIPTION: Dirty Feet Heartbreak 100km Trail Run\n
  \n
  info[at]dirtyfeet.ca
DTSTART:20240817T080000
DTEND:00000000T235900
LOCATION:Stake Lake, BC\, CAN
URL:http://dirtyfeet.ca/event/dirty-feet-heartbreak-50km-trail-run
CATEGORIES:Ultramarathon
CONTACT:
CLASS:PUBLIC
PRIORITY:5
TRANSP:OPAQUE
END:VEVENT
END:VCALENDAR
