BEGIN:VCALENDAR
PRODID:-//http://statistik.d-u-v.org//PHP ultracalendar//EN
VERSION:2.0
METHOD:PUBLISH
BEGIN:VEVENT
DTSTAMP:20260423T080722
CREATED:20240416T105705
UID:1776931642.0.76877900-106683@statistik.d-u-v.org
SUMMARY:Bromont Ultra 80 Km Trail Run
DESCRIPTION: Bromont Ultra 80 Km Trail Run\n
  \n
  info[at]bromontultra.com
DTSTART:20241019T033000
DTEND:00000000T235900
LOCATION:Bromont, QC\, CAN
URL:http://www.bromontultra.com/
CATEGORIES:Ultramarathon
CONTACT:
CLASS:PUBLIC
PRIORITY:5
TRANSP:OPAQUE
END:VEVENT
END:VCALENDAR
