BEGIN:VCALENDAR
PRODID:-//http://statistik.d-u-v.org//PHP ultracalendar//EN
VERSION:2.0
METHOD:PUBLISH
BEGIN:VEVENT
DTSTAMP:20260420T055641
CREATED:20240416T092031
UID:1776664601.0.87414400-106662@statistik.d-u-v.org
SUMMARY:Finlayson Arm 50 Miles Race
DESCRIPTION: Finlayson Arm 50 Miles Race\n
  \n
  
DTSTART:20240907T000000
DTEND:20240908T235900
LOCATION:Victoria, BC\, CAN
URL:http://www.coastlineendurancerunning.com
CATEGORIES:Ultramarathon
CONTACT:
CLASS:PUBLIC
PRIORITY:5
TRANSP:OPAQUE
END:VEVENT
END:VCALENDAR
