BEGIN:VCALENDAR
PRODID:-//http://statistik.d-u-v.org//PHP ultracalendar//EN
VERSION:2.0
METHOD:PUBLISH
BEGIN:VEVENT
DTSTAMP:20260420T015220
CREATED:20240416T073256
UID:1776649940.0.07110900-106631@statistik.d-u-v.org
SUMMARY:Le Defi de la Tortue 12 Hour Race Marche
DESCRIPTION: Le Defi de la Tortue 12 Hour Race Marche\n
  \n
  defidelatortue[at]hotmail.com
DTSTART:20220827T000000
DTEND:00000000T235900
LOCATION:Shawinigan, QC\, CAN
URL:https://defidelatortue.jimdofree.com
CATEGORIES:Ultramarathon
CONTACT:
CLASS:PUBLIC
PRIORITY:5
TRANSP:OPAQUE
END:VEVENT
END:VCALENDAR
