BEGIN:VCALENDAR
PRODID:-//http://statistik.d-u-v.org//PHP ultracalendar//EN
VERSION:2.0
METHOD:PUBLISH
BEGIN:VEVENT
DTSTAMP:20260419T192439
CREATED:20240414T040348
UID:1776626679.0.69299300-106542@statistik.d-u-v.org
SUMMARY:Sunburn Solstice 15 Hour Trail Run
DESCRIPTION: Sunburn Solstice 15 Hour Trail Run\n
  \n
  happytrailsracing[at]gmail.com
DTSTART:20240622T000000
DTEND:00000000T235900
LOCATION:Mount Hope, ON\, CAN
URL:https://www.happytrailsracing.com/results
CATEGORIES:Ultramarathon
CONTACT:
CLASS:PUBLIC
PRIORITY:5
TRANSP:OPAQUE
END:VEVENT
END:VCALENDAR
