BEGIN:VCALENDAR
PRODID:-//http://statistik.d-u-v.org//PHP ultracalendar//EN
VERSION:2.0
METHOD:PUBLISH
BEGIN:VEVENT
DTSTAMP:20260424T163023
CREATED:20240408T095317
UID:1777048223.0.90061400-106355@statistik.d-u-v.org
SUMMARY:Big Ears Ultra Run
DESCRIPTION: Big Ears Ultra Run\n
  \n
  
DTSTART:20240421T050000
DTEND:00000000T235900
LOCATION:Beitou District\, TPE
URL:https://www.facebook.com/events/947026250281605/?acontext=%7B%22event_action_history%22%3A[%7B%22surface%22%3A%22group%22%7D]%7D
CATEGORIES:Ultramarathon
CONTACT:
CLASS:PUBLIC
PRIORITY:5
TRANSP:OPAQUE
END:VEVENT
END:VCALENDAR
