BEGIN:VCALENDAR
PRODID:-//http://statistik.d-u-v.org//PHP ultracalendar//EN
VERSION:2.0
METHOD:PUBLISH
BEGIN:VEVENT
DTSTAMP:20260423T041208
CREATED:20240407T142950
UID:1776917528.0.23159300-106322@statistik.d-u-v.org
SUMMARY:Mäschder Drehwurm 6 Stundenlauf
DESCRIPTION: Mäschder Drehwurm 6 Stundenlauf\n
  Katja Dasbach\n
  katja[at]katjas-laufzeit.de
DTSTART:20240406T130000
DTEND:00000000T235900
LOCATION:Großmaischeid\, GER
URL:https://katjas-laufzeit.de/
CATEGORIES:Ultramarathon
CONTACT:Katja Dasbach
CLASS:PUBLIC
PRIORITY:5
TRANSP:OPAQUE
END:VEVENT
END:VCALENDAR
