BEGIN:VCALENDAR
PRODID:-//http://statistik.d-u-v.org//PHP ultracalendar//EN
VERSION:2.0
METHOD:PUBLISH
BEGIN:VEVENT
DTSTAMP:20260419T195343
CREATED:20240407T033510
UID:1776628423.0.15955900-106279@statistik.d-u-v.org
SUMMARY:Sulphur Springs Trail Run 100km
DESCRIPTION: Sulphur Springs Trail Run 100km\n
  Race Director Andrea Lynn Sloan, Tim Nelson\n
  sulphursprings[at]burlingtonrunners.com
DTSTART:20240525T060000
DTEND:20240526T120000
LOCATION:Ancaster, ON\, CAN
URL:https://sulphursprings.burlingtonrunners.com/
CATEGORIES:Ultramarathon
CONTACT:Race Director Andrea Lynn Sloan, Tim Nelson
CLASS:PUBLIC
PRIORITY:5
TRANSP:OPAQUE
END:VEVENT
END:VCALENDAR
